BEGIN:VCALENDAR
VERSION:2.0
PRODID:-//Suffolk Centre - ECPv6.15.20//NONSGML v1.0//EN
CALSCALE:GREGORIAN
METHOD:PUBLISH
X-WR-CALNAME:Suffolk Centre
X-ORIGINAL-URL:https://suffolkcentre.org.uk
X-WR-CALDESC:Events for Suffolk Centre
REFRESH-INTERVAL;VALUE=DURATION:PT1H
X-Robots-Tag:noindex
X-PUBLISHED-TTL:PT1H
BEGIN:VTIMEZONE
TZID:UTC
BEGIN:STANDARD
TZOFFSETFROM:+0000
TZOFFSETTO:+0000
TZNAME:UTC
DTSTART:20250101T000000
END:STANDARD
END:VTIMEZONE
BEGIN:VEVENT
DTSTART;TZID=UTC:20260306T120000
DTEND;TZID=UTC:20260308T120000
DTSTAMP:20260420T063015
CREATED:20191209T003000Z
LAST-MODIFIED:20251230T151623Z
UID:2743-1772798400-1772971200@suffolkcentre.org.uk
SUMMARY:Invitation MID ANGLIA PRE SEASON RALLY & DINNER
DESCRIPTION:  \n\n\n\nNo Of Nights:\n2\n\n\nPost Code:\nPE27 3LY\n\n\nWhat3Words.Com:\n  \n \n\n\nRally limit:\nTBA\n\n\nDirections:\nFrom A14 junction 26\, take B1040 St Ives to Somersham Road. Continue on this road past Morrisons and the industrial estate. At 5th roundabout take 2nd exit signposted Somersham\, site on left at top of hill. Mid Anglia Centre signs will be displayed.\n\n\nProgramme:\nInvitation Mid-Anglia Centre \nPRE-SEASON RALLY & DINNER 2026 \nBURLEIGH HILL FARM.  DINNER:  ST IVES GOLF CLUB  \nRALLY 6th March 2026 to 8th February 2026 \nOn Saturday night our Annual Dinner will be held at ST Ives Golf Club. With musical entertainment from Charlie & Rihanna.  A shuttle bus is booked to take guests to and from the Golf Club.  You are most welcome to attend the evening without attending the rally.  Dress code: Let’s make it a night to remember.  \nGentlemen: Black Tie or lounge suit.   \nLadies: Cocktail or evening dress. \nCosts:  Meal & Entertainment £47.50 per person.  Rally fee: £53.00 for 2 nights including electric.  Shuttle bus £6.00 per person.\n\n\nRally slips to:\nMid Anglia Committee or Mid-Anglia Website.\n\n\nRally Marshals:\n \n\n\nSlips to Marshal by:\nSpecial booking form available from Rally Secretary – rallysec@suffolkcentre.co.uk \nor from Mid-Anglia Website.
URL:https://suffolkcentre.org.uk/programme/pre-season-dinner-2026/
LOCATION:Burleigh Hill Farm\, PE27 3LY
END:VEVENT
BEGIN:VEVENT
DTSTART;TZID=UTC:20260320T120000
DTEND;TZID=UTC:20260322T140000
DTSTAMP:20260420T063015
CREATED:20191222T221342Z
LAST-MODIFIED:20251230T152237Z
UID:2783-1774008000-1774188000@suffolkcentre.org.uk
SUMMARY:SUPERBOWL LITTLEPORT LEISURE - Invitation from Mid-Anglia Centre
DESCRIPTION:  \n\n\n\nNo Of Nights:\n2\n\n\nPost Code:\nCB6 1PU\n\n\nWhat3Words.Com:\n \n\n\nRally limit:\n45 Vans\n\n\nDirections:\nTurn off A10 Littleport / Ely bypass onto Camel Road.  Site on right in ½ mile.  Please enter from the A10. Do not go through village. Mid Anglia Signs will be displayed.\n\n\nServices:\nElectric hook-up not available\n\n\nProgramme:\nFriday evening – Indoor Curling.  Saturday evening – Carpet Bowls competition – commences at 5.00pm in the Sports Hall with supper served during the evening.\n\n\nRally slips to:\nBookings can be made via the Mid-Anglia website – www.midanglia.org.uk. \n\n\nRally Marshals:\nJohn & Jasmine Kent. \n\n\nSlips to Marshal by:\n 
URL:https://suffolkcentre.org.uk/programme/superbowl/
LOCATION:Littleport leisure\, Camel Road\, Littleport\, Ely\, CB6 1PU
END:VEVENT
END:VCALENDAR