BEGIN:VCALENDAR
VERSION:2.0
PRODID:-//Suffolk Centre - ECPv6.15.20//NONSGML v1.0//EN
CALSCALE:GREGORIAN
METHOD:PUBLISH
X-ORIGINAL-URL:https://suffolkcentre.org.uk
X-WR-CALDESC:Events for Suffolk Centre
REFRESH-INTERVAL;VALUE=DURATION:PT1H
X-Robots-Tag:noindex
X-PUBLISHED-TTL:PT1H
BEGIN:VTIMEZONE
TZID:UTC
BEGIN:STANDARD
TZOFFSETFROM:+0000
TZOFFSETTO:+0000
TZNAME:UTC
DTSTART:20240101T000000
END:STANDARD
END:VTIMEZONE
BEGIN:VEVENT
DTSTART;TZID=UTC:20250814T140000
DTEND;TZID=UTC:20250818T120000
DTSTAMP:20260420T150110
CREATED:20191209T001443Z
LAST-MODIFIED:20241230T155353Z
UID:2738-1755180000-1755518400@suffolkcentre.org.uk
SUMMARY:Invitation from South Essex Centre - CHAIRMANS CHARITY RALLY SHOPLAND HALL CARAVAN SITE
DESCRIPTION:  \n\n\n\nPost Code:\nSS4 1LT\n\n\nWhat3Words.Com:\n///beans.held.oven    \n\n\nRally limit:\n80 Vans\n\n\nDirections:\nA127 towards Southend. Remain on A127 past Tesco Superstore\, turn left at the Toby Carvery (Bell PH) traffic lights\, into Rochford Road. At roundabout take 3rd exit s/p Rochford. At next roundabout (Ann Boleyn PH) take second exit (right) into Sutton Road. Go straight over mini roundabout and take next turning on the left (as road bends to the right) into Shopland Road. After 2 miles approx. turn right onto unmade driveway to Shopland Hall. Look out for yellow SECC signs.\n\n\nServices:\nElectric Hook Up Not Available\n\n\nProgramme:\nThe BIG ONE; the South Essex triennial Charity Rally. Whilst hoping to raise money for our Charity this is sure to be a great rally\, full of fun and games for all\, live entertainment on three nights in luxury marquee with bespoke bar and food will also be available. Our Chaiman David Mills\, and First Lady\, Marion\, look forward to welcoming Centre members and guests from far and wide. This will be a 4 night rally\, starting on the Thursday. The venue is close to Southend-on-Sea tourist attractions\, with the longest pleasure pier in the world\, and lots of other local history. You could extend your stay if required\, by direct arrangement with the landowner.  Site Fee  Inclusive rally fee fixed at £95. Food and drinks will be available at extra cost.\n\n\nRally slips to:\nPlease use special booking form (with QR code) available on website – www.secc-online.org.uk.\n\n\nRally Marshals:\nDavid Mills with Committee\n\n\nSlips to Marshal by:\n 
URL:https://suffolkcentre.org.uk/programme/whiskey-galore/
LOCATION:SHOPLAND HALL CARAVAN SITE\, SHOPLAND ROAD\,\, Rochford\, Essex\, SS4 1LT\, United Kingdom
END:VEVENT
END:VCALENDAR